BEGIN:VCALENDAR
VERSION:2.0
PRODID:-//New York Avenue Presbyterian Church - ECPv6.15.20//NONSGML v1.0//EN
CALSCALE:GREGORIAN
METHOD:PUBLISH
X-WR-CALNAME:New York Avenue Presbyterian Church
X-ORIGINAL-URL:https://nyapc.org
X-WR-CALDESC:Events for New York Avenue Presbyterian Church
REFRESH-INTERVAL;VALUE=DURATION:PT1H
X-Robots-Tag:noindex
X-PUBLISHED-TTL:PT1H
BEGIN:VTIMEZONE
TZID:America/New_York
BEGIN:DAYLIGHT
TZOFFSETFROM:-0500
TZOFFSETTO:-0400
TZNAME:EDT
DTSTART:20230312T070000
END:DAYLIGHT
BEGIN:STANDARD
TZOFFSETFROM:-0400
TZOFFSETTO:-0500
TZNAME:EST
DTSTART:20231105T060000
END:STANDARD
BEGIN:DAYLIGHT
TZOFFSETFROM:-0500
TZOFFSETTO:-0400
TZNAME:EDT
DTSTART:20240310T070000
END:DAYLIGHT
BEGIN:STANDARD
TZOFFSETFROM:-0400
TZOFFSETTO:-0500
TZNAME:EST
DTSTART:20241103T060000
END:STANDARD
BEGIN:DAYLIGHT
TZOFFSETFROM:-0500
TZOFFSETTO:-0400
TZNAME:EDT
DTSTART:20250309T070000
END:DAYLIGHT
BEGIN:STANDARD
TZOFFSETFROM:-0400
TZOFFSETTO:-0500
TZNAME:EST
DTSTART:20251102T060000
END:STANDARD
END:VTIMEZONE
BEGIN:VEVENT
DTSTART;TZID=America/New_York:20241205T180000
DTEND;TZID=America/New_York:20241205T190000
DTSTAMP:20260419T194537
CREATED:20241107T195129Z
LAST-MODIFIED:20241121T215434Z
UID:6342-1733421600-1733425200@nyapc.org
SUMMARY:A Service of Wholeness and Hope
DESCRIPTION:For many\, Christmas is a time when we need reassurance and comfort in the face of grief\, loss\, illness\, and uncertainty. In the midst of the busy and cheerful holiday season\, we set aside time to acknowledge the grief and laments that we carry with us. Join us in the Lincoln Chapel on the first floor\, for a time of quiet reflection\, meaningful words\, and music to seek comfort\, hope\, and wholeness in the good news of “God with Us: Immanuel!” After worship\, all are invited to stay for a time of sharing and reflection on the grief and laments you carry. \nQuestions? Email Pastor Rachel.
URL:https://nyapc.org/events/a-service-of-wholeness-and-hope/
LOCATION:NYAPC\, 1313 New York Ave NW\, Washington\, DC\, 20005\, United States
ATTACH;FMTTYPE=image/webp:https://nyapc.org/wp-content/uploads/2024/11/Sermon-Series-Logo-4.webp
END:VEVENT
END:VCALENDAR