BEGIN:VCALENDAR
VERSION:2.0
PRODID:-//New York Avenue Presbyterian Church - ECPv6.15.20//NONSGML v1.0//EN
CALSCALE:GREGORIAN
METHOD:PUBLISH
X-WR-CALNAME:New York Avenue Presbyterian Church
X-ORIGINAL-URL:https://nyapc.org
X-WR-CALDESC:Events for New York Avenue Presbyterian Church
REFRESH-INTERVAL;VALUE=DURATION:PT1H
X-Robots-Tag:noindex
X-PUBLISHED-TTL:PT1H
BEGIN:VTIMEZONE
TZID:America/New_York
BEGIN:DAYLIGHT
TZOFFSETFROM:-0500
TZOFFSETTO:-0400
TZNAME:EDT
DTSTART:20240310T070000
END:DAYLIGHT
BEGIN:STANDARD
TZOFFSETFROM:-0400
TZOFFSETTO:-0500
TZNAME:EST
DTSTART:20241103T060000
END:STANDARD
BEGIN:DAYLIGHT
TZOFFSETFROM:-0500
TZOFFSETTO:-0400
TZNAME:EDT
DTSTART:20250309T070000
END:DAYLIGHT
BEGIN:STANDARD
TZOFFSETFROM:-0400
TZOFFSETTO:-0500
TZNAME:EST
DTSTART:20251102T060000
END:STANDARD
BEGIN:DAYLIGHT
TZOFFSETFROM:-0500
TZOFFSETTO:-0400
TZNAME:EDT
DTSTART:20260308T070000
END:DAYLIGHT
BEGIN:STANDARD
TZOFFSETFROM:-0400
TZOFFSETTO:-0500
TZNAME:EST
DTSTART:20261101T060000
END:STANDARD
END:VTIMEZONE
BEGIN:VEVENT
DTSTART;VALUE=DATE:20251119
DTEND;VALUE=DATE:20251208
DTSTAMP:20260419T131558
CREATED:20251119T213123Z
LAST-MODIFIED:20251119T213147Z
UID:7790-1763510400-1765151999@nyapc.org
SUMMARY:Christmas Poinsettia Dedications
DESCRIPTION:Embrace the spirit of Christmas by participating in our beautiful Christmas Flower Dedication tradition. The Deacons arrange these blossoms in the Sanctuary\, providing a touching way to honor or remember those who hold a special place in your heart. No matter the contribution amount\, your dedication is a heartfelt gesture. \nAs part of our Christmas celebration\, we’ll recognize your thoughtful contribution by listing your name in the bulletin on December 21 & 24\, allowing the entire congregation to share in your tribute. \nMoreover\, the Deacons extend the festive spirit beyond the Sanctuary. We are seeking volunteers to help distribute these lovely Christmas plants to members who are homebound or hospitalized\, as well as others within our congregation. If you can lend a hand with this act of kindness\, please indicate your availability on the form. \nFor any inquiries or further assistance\, don’t hesitate to reach out to Kirstin. \nSubmit your Poinsettia Dedication here. \nYou can also submit a dedication using a physical form on Sunday\, which can be found at the Usher stations. \nAll Christmas Poinsettia Dedications are due by December 7. Let’s make this Christmas truly special and memorable\, together.
URL:https://nyapc.org/events/christmas-poinsettia-dedications/
LOCATION:NYAPC\, 1313 New York Ave NW\, Washington\, DC\, 20005\, United States
ATTACH;FMTTYPE=image/jpeg:https://nyapc.org/wp-content/uploads/2025/11/16-1.jpg
END:VEVENT
END:VCALENDAR