BEGIN:VCALENDAR
VERSION:2.0
PRODID:-//New York Avenue Presbyterian Church - ECPv6.15.20//NONSGML v1.0//EN
CALSCALE:GREGORIAN
METHOD:PUBLISH
X-WR-CALNAME:New York Avenue Presbyterian Church
X-ORIGINAL-URL:https://nyapc.org
X-WR-CALDESC:Events for New York Avenue Presbyterian Church
REFRESH-INTERVAL;VALUE=DURATION:PT1H
X-Robots-Tag:noindex
X-PUBLISHED-TTL:PT1H
BEGIN:VTIMEZONE
TZID:America/New_York
BEGIN:DAYLIGHT
TZOFFSETFROM:-0500
TZOFFSETTO:-0400
TZNAME:EDT
DTSTART:20240310T070000
END:DAYLIGHT
BEGIN:STANDARD
TZOFFSETFROM:-0400
TZOFFSETTO:-0500
TZNAME:EST
DTSTART:20241103T060000
END:STANDARD
BEGIN:DAYLIGHT
TZOFFSETFROM:-0500
TZOFFSETTO:-0400
TZNAME:EDT
DTSTART:20250309T070000
END:DAYLIGHT
BEGIN:STANDARD
TZOFFSETFROM:-0400
TZOFFSETTO:-0500
TZNAME:EST
DTSTART:20251102T060000
END:STANDARD
BEGIN:DAYLIGHT
TZOFFSETFROM:-0500
TZOFFSETTO:-0400
TZNAME:EDT
DTSTART:20260308T070000
END:DAYLIGHT
BEGIN:STANDARD
TZOFFSETFROM:-0400
TZOFFSETTO:-0500
TZNAME:EST
DTSTART:20261101T060000
END:STANDARD
END:VTIMEZONE
BEGIN:VEVENT
DTSTART;VALUE=DATE:20250110
DTEND;VALUE=DATE:20250210
DTSTAMP:20260419T193414
CREATED:20250123T200146Z
LAST-MODIFIED:20250123T200643Z
UID:6693-1736467200-1739145599@nyapc.org
SUMMARY:Cuba Supply Drive
DESCRIPTION:In February\, NYAPC is visiting our partner church\, Primera Iglesia Presbiteriana-Reformada de la Habana! This means it is time for the Cuba Partners Committee annual First Havana Supply Drive. Our Cuban friends have been living in incredibly difficult conditions\, with extreme limits on basics like food\, soap\, and medicine. We have the opportunity to share our abundance with the First Presbyterian-Reformed Church of Havana. This year we have created a shopping list through Target. All goods will be shipped directly to NYAPC. This year the biggest needs are powdered milk\, over the counter medicines\, and batteries. There are also options for vitamins and toiletries. If you prefer to purchase outside of the online list\, donations will be welcomed at the church front desk. Funds for goods or airline baggage fees can be donated on NYAPC.org using option Give to Cuba Partners\, 2445.  \nAlong with the supplies we are soliciting suitcases for trip participants to hand-carry all the donations on our flight to Havana. We also welcome empty/used pill bottles! First Havana (re)uses the bottles when distributing the various medicines. \nAll donations are used to stock First Havana’s medical clinic and “store\,” all provided at no charge to church members and the local community. Please help us bring these items to our Cuban friends by buying online or leaving donations at the front desk! This is a wonderful way to show how much New York Avenue supports First Havana’s many local missions. If you have any questions please contact Aryn Myers. The Presbyterian Cuba Partners Network\, NYAPC\, and First Havana thank you for your support! \n2025 Shopping List  \nTarget registry: https://www.target.com/gift-registry/gift/cubanyapc \n\nAA Batteries\nAAA Batteries\nAcetaminophen (adult)\nAcetaminophen (children)\nAlka Seltzer\nAnalgesic creams\nAnti diarrheal\nAntacids\nAspirin 325 mg\nAspirin 81 mg\nAsthma spray (Salbutamol)\nBandaids\nBenadryl\nBengay\nCalcium\nDesitin\nExcedrin\nIbuprofen (adult)\nIbuprofen (children)\nIcy hot\nLoratadine (Claritin)\nMedicines for colds (Night and day)\nMelatonin\nMultivitamins (adults)\nMultivitamins (children)\nNaproxen\nOmega 3\nOmeprazol\nOral rehydration salts\nPowdered Milk\nSoap\nSyringes (general)\nSyringes (diabetic)\nToilet paper\nToothpaste (all sizes)\nTriple antibiotic cream\nVitamin A\nVitamin B Complex (B1-B6-B12)\nVitamin C\nVitamin E\nWound bandages\nWound tape\nColostomy bags\nAdult Diapers Women Small / Medium / Large\nAdult Diapers Men Small / Medium / Large
URL:https://nyapc.org/events/cuba-supply-drive/
LOCATION:NYAPC\, 1313 New York Ave NW\, Washington\, DC\, 20005\, United States
ATTACH;FMTTYPE=image/webp:https://nyapc.org/wp-content/uploads/2025/01/Sermon-Series-Logo-34.webp
END:VEVENT
END:VCALENDAR