BEGIN:VCALENDAR
VERSION:2.0
PRODID:-//New York Avenue Presbyterian Church - ECPv6.15.20//NONSGML v1.0//EN
CALSCALE:GREGORIAN
METHOD:PUBLISH
X-WR-CALNAME:New York Avenue Presbyterian Church
X-ORIGINAL-URL:https://nyapc.org
X-WR-CALDESC:Events for New York Avenue Presbyterian Church
REFRESH-INTERVAL;VALUE=DURATION:PT1H
X-Robots-Tag:noindex
X-PUBLISHED-TTL:PT1H
BEGIN:VTIMEZONE
TZID:America/New_York
BEGIN:DAYLIGHT
TZOFFSETFROM:-0500
TZOFFSETTO:-0400
TZNAME:EDT
DTSTART:20230312T070000
END:DAYLIGHT
BEGIN:STANDARD
TZOFFSETFROM:-0400
TZOFFSETTO:-0500
TZNAME:EST
DTSTART:20231105T060000
END:STANDARD
BEGIN:DAYLIGHT
TZOFFSETFROM:-0500
TZOFFSETTO:-0400
TZNAME:EDT
DTSTART:20240310T070000
END:DAYLIGHT
BEGIN:STANDARD
TZOFFSETFROM:-0400
TZOFFSETTO:-0500
TZNAME:EST
DTSTART:20241103T060000
END:STANDARD
BEGIN:DAYLIGHT
TZOFFSETFROM:-0500
TZOFFSETTO:-0400
TZNAME:EDT
DTSTART:20250309T070000
END:DAYLIGHT
BEGIN:STANDARD
TZOFFSETFROM:-0400
TZOFFSETTO:-0500
TZNAME:EST
DTSTART:20251102T060000
END:STANDARD
END:VTIMEZONE
BEGIN:VEVENT
DTSTART;TZID=America/New_York:20241105T073000
DTEND;TZID=America/New_York:20241105T080000
DTSTAMP:20260419T213212
CREATED:20240827T165606Z
LAST-MODIFIED:20241105T124718Z
UID:5865-1730791800-1730793600@nyapc.org
SUMMARY:Election Day Prayer on Facebook Live
DESCRIPTION:Join Pastor Sarah on election morning for a time of prayer as we come together to lift up our nation. We’ll be praying for peace in the process\, justice and equity in the election\, and that everyone who wants and is able to vote will have the opportunity. Let’s unite in hope for a free and fair election and for the future of our country. \nFacebook Live: https://fb.watch/vFPh5DSc_O/
URL:https://nyapc.org/events/election-day-prayer-on-facebook-live/
ATTACH;FMTTYPE=image/webp:https://nyapc.org/wp-content/uploads/2024/08/Screenshot-2024-08-27-at-1.02.57-PM.webp
LOCATION:https://fb.watch/vFPh5DSc_O/
END:VEVENT
END:VCALENDAR