BEGIN:VCALENDAR
VERSION:2.0
PRODID:-//New York Avenue Presbyterian Church - ECPv6.15.20//NONSGML v1.0//EN
CALSCALE:GREGORIAN
METHOD:PUBLISH
X-WR-CALNAME:New York Avenue Presbyterian Church
X-ORIGINAL-URL:https://nyapc.org
X-WR-CALDESC:Events for New York Avenue Presbyterian Church
REFRESH-INTERVAL;VALUE=DURATION:PT1H
X-Robots-Tag:noindex
X-PUBLISHED-TTL:PT1H
BEGIN:VTIMEZONE
TZID:America/New_York
BEGIN:DAYLIGHT
TZOFFSETFROM:-0500
TZOFFSETTO:-0400
TZNAME:EDT
DTSTART:20230312T070000
END:DAYLIGHT
BEGIN:STANDARD
TZOFFSETFROM:-0400
TZOFFSETTO:-0500
TZNAME:EST
DTSTART:20231105T060000
END:STANDARD
BEGIN:DAYLIGHT
TZOFFSETFROM:-0500
TZOFFSETTO:-0400
TZNAME:EDT
DTSTART:20240310T070000
END:DAYLIGHT
BEGIN:STANDARD
TZOFFSETFROM:-0400
TZOFFSETTO:-0500
TZNAME:EST
DTSTART:20241103T060000
END:STANDARD
BEGIN:DAYLIGHT
TZOFFSETFROM:-0500
TZOFFSETTO:-0400
TZNAME:EDT
DTSTART:20250309T070000
END:DAYLIGHT
BEGIN:STANDARD
TZOFFSETFROM:-0400
TZOFFSETTO:-0500
TZNAME:EST
DTSTART:20251102T060000
END:STANDARD
END:VTIMEZONE
BEGIN:VEVENT
DTSTART;TZID=America/New_York:20241124T113000
DTEND;TZID=America/New_York:20241124T123000
DTSTAMP:20260419T193537
CREATED:20241107T193516Z
LAST-MODIFIED:20241114T214518Z
UID:6325-1732447800-1732451400@nyapc.org
SUMMARY:Images for God: Part Two
DESCRIPTION:We use metaphors for God all the time: intimate ones like mother and father\, powerful ones like Lord and King. Over two Sundays in the Lincoln Parlor\, Meg House will lead an exploration some less common metaphors from the Hebrew Scriptures: images like Water\, Rock\, and Cloud. We’ll look at scripture\, explore what the metaphor might mean\, and ask\, what difference does this metaphor make? We’ll also take away one idea for a spiritual practice to try over the next week. Light lunch/snacks will be served. (These sessions are based on the book “God is Here\,” by Rabbi Toba Spitzer. No reading necessary!)
URL:https://nyapc.org/events/images-for-god-part-two/
LOCATION:NYAPC\, 1313 New York Ave NW\, Washington\, DC\, 20005\, United States
ATTACH;FMTTYPE=image/webp:https://nyapc.org/wp-content/uploads/2024/11/Sermon-Series-Logo-1.webp
END:VEVENT
END:VCALENDAR