BEGIN:VCALENDAR
VERSION:2.0
PRODID:-//New York Avenue Presbyterian Church - ECPv6.15.20//NONSGML v1.0//EN
CALSCALE:GREGORIAN
METHOD:PUBLISH
X-WR-CALNAME:New York Avenue Presbyterian Church
X-ORIGINAL-URL:https://nyapc.org
X-WR-CALDESC:Events for New York Avenue Presbyterian Church
REFRESH-INTERVAL;VALUE=DURATION:PT1H
X-Robots-Tag:noindex
X-PUBLISHED-TTL:PT1H
BEGIN:VTIMEZONE
TZID:America/New_York
BEGIN:DAYLIGHT
TZOFFSETFROM:-0500
TZOFFSETTO:-0400
TZNAME:EDT
DTSTART:20240310T070000
END:DAYLIGHT
BEGIN:STANDARD
TZOFFSETFROM:-0400
TZOFFSETTO:-0500
TZNAME:EST
DTSTART:20241103T060000
END:STANDARD
BEGIN:DAYLIGHT
TZOFFSETFROM:-0500
TZOFFSETTO:-0400
TZNAME:EDT
DTSTART:20250309T070000
END:DAYLIGHT
BEGIN:STANDARD
TZOFFSETFROM:-0400
TZOFFSETTO:-0500
TZNAME:EST
DTSTART:20251102T060000
END:STANDARD
BEGIN:DAYLIGHT
TZOFFSETFROM:-0500
TZOFFSETTO:-0400
TZNAME:EDT
DTSTART:20260308T070000
END:DAYLIGHT
BEGIN:STANDARD
TZOFFSETFROM:-0400
TZOFFSETTO:-0500
TZNAME:EST
DTSTART:20261101T060000
END:STANDARD
END:VTIMEZONE
BEGIN:VEVENT
DTSTART;TZID=America/New_York:20250531T120000
DTEND;TZID=America/New_York:20250531T140000
DTSTAMP:20260419T162000
CREATED:20250424T170824Z
LAST-MODIFIED:20250424T170824Z
UID:7076-1748692800-1748700000@nyapc.org
SUMMARY:Interfaith Prayer Brunch
DESCRIPTION:Join us for the Interfaith Prayer Brunch—a spirit-filled worship service and meal for faith leaders across traditions. \nGather with us on Saturday\, May 31 from 12–2 PM at Westminster DC (400 I St SW\, Washington\, DC) for shared worship\, live music\, and a nourishing brunch. This is a space for reflection\, connection\, and celebration of our shared calling to justice\, compassion\, and community. \nRegistration info coming soon!
URL:https://nyapc.org/events/interfaith-prayer-brunch/
LOCATION:Westminster DC\, 400 I St SW\, WASHINGTON\, DC\, 20024\, United States
ATTACH;FMTTYPE=image/webp:https://nyapc.org/wp-content/uploads/2025/04/Sermon-Series-Logo.webp
END:VEVENT
END:VCALENDAR