BEGIN:VCALENDAR
VERSION:2.0
PRODID:-//New York Avenue Presbyterian Church - ECPv6.15.20//NONSGML v1.0//EN
CALSCALE:GREGORIAN
METHOD:PUBLISH
X-WR-CALNAME:New York Avenue Presbyterian Church
X-ORIGINAL-URL:https://nyapc.org
X-WR-CALDESC:Events for New York Avenue Presbyterian Church
REFRESH-INTERVAL;VALUE=DURATION:PT1H
X-Robots-Tag:noindex
X-PUBLISHED-TTL:PT1H
BEGIN:VTIMEZONE
TZID:UTC
BEGIN:STANDARD
TZOFFSETFROM:+0000
TZOFFSETTO:+0000
TZNAME:UTC
DTSTART:20230101T000000
END:STANDARD
END:VTIMEZONE
BEGIN:VEVENT
DTSTART;TZID=UTC:20240519T113000
DTEND;TZID=UTC:20240519T123000
DTSTAMP:20260420T022530
CREATED:20240506T192516Z
LAST-MODIFIED:20240516T142247Z
UID:10000013-1716118200-1716121800@nyapc.org
SUMMARY:Creating a Church for the Future Discussion
DESCRIPTION:Brian McLaren advocates for a ‘New Kind of Christianity.’ What does he mean by this\, and how might it impact NYAPC? Theo Brown\, Paul Dornan\, Meg House\, and Len Shabman will facilitate a discussion on these and other questions. Feel free to bring your coffee and snack to the Docherty Center and join the conversation. Read more about Brian McLaren here.
URL:https://nyapc.org/events/follow-up-discussion-about-brian-mclaren/
LOCATION:NYAPC\, 1313 New York Ave NW\, Washington\, DC\, 20005\, United States
CATEGORIES:MSIR
ATTACH;FMTTYPE=image/webp:https://nyapc.org/wp-content/uploads/2024/05/Sermon-Series-Logo-33.webp
END:VEVENT
BEGIN:VEVENT
DTSTART;TZID=UTC:20240519T100000
DTEND;TZID=UTC:20240519T110000
DTSTAMP:20260420T022530
CREATED:20240417T203426Z
LAST-MODIFIED:20240417T203426Z
UID:10000010-1716112800-1716116400@nyapc.org
SUMMARY:Confirmation Sunday
DESCRIPTION:Join us for Confirmation Sunday! This special day is an opportunity to support our confirmands as they take a step in their faith journey. These dedicated young folks have planned and will lead our worship service\, and some will be joining the church as new members! Come witness their commitment and celebrate their achievements with us.
URL:https://nyapc.org/events/confirmation-sunday/
LOCATION:NYAPC\, 1313 New York Ave NW\, Washington\, DC\, 20005\, United States
ATTACH;FMTTYPE=image/webp:https://nyapc.org/wp-content/uploads/2024/04/Sermon-Series-Logo-30.webp
END:VEVENT
BEGIN:VEVENT
DTSTART;TZID=UTC:20240512T090000
DTEND;TZID=UTC:20240512T100000
DTSTAMP:20260420T022530
CREATED:20240422T193000Z
LAST-MODIFIED:20240422T193000Z
UID:10000012-1715504400-1715508000@nyapc.org
SUMMARY:Discussing the Transition to a Called & Installed Associate Pastor
DESCRIPTION:Join us in the Docherty Center on the first floor for an Adult Education session led by Kristin Ford\, Clerk of Session\, and Amy Gillies\, Chair of the Personnel Committee. We will discuss the important steps involved in transitioning our Associate Pastor\, Rachel Pacheco\, from a Stated Supply Associate Pastor to a Called and Installed Associate Pastor. This time provides an excellent opportunity to ask questions and gain clarity about the process. Your insights and participation are crucial to us! No registration is required.
URL:https://nyapc.org/events/discussing-the-transition-to-a-called-installed-associate-pastor/
LOCATION:NYAPC\, 1313 New York Ave NW\, Washington\, DC\, 20005\, United States
ATTACH;FMTTYPE=image/webp:https://nyapc.org/wp-content/uploads/2024/04/Sermon-Series-Logo-32.webp
END:VEVENT
BEGIN:VEVENT
DTSTART;TZID=UTC:20240508T190000
DTEND;TZID=UTC:20240508T203000
DTSTAMP:20260420T022530
CREATED:20240403T233552Z
LAST-MODIFIED:20240510T142423Z
UID:10000007-1715194800-1715200200@nyapc.org
SUMMARY:Creating a Church for the Future with Brian McLaren
DESCRIPTION:Join us for part two of three of our McClendon Scholar events with Brian McLaren. In this webinar\, Brian McLaren will discuss the need for a church that can help turn our global civilization away from its self-destructive path. He will talk about the values needed to help us successfully navigate our dangerous future. After Brian speaks\, he will answer questions and engage in discussion with participants. \nLink for registration: https://mclarenmay8.eventbrite.com
URL:https://nyapc.org/events/a-new-kind-of-christianity-with-brain-mclaren-part-2/
LOCATION:NYAPC\, 1313 New York Ave NW\, Washington\, DC\, 20005\, United States
CATEGORIES:MSIR
ATTACH;FMTTYPE=image/webp:https://nyapc.org/wp-content/uploads/2024/04/7-scaled.webp
END:VEVENT
BEGIN:VEVENT
DTSTART;TZID=UTC:20240428T180000
DTEND;TZID=UTC:20240428T200000
DTSTAMP:20260420T022530
CREATED:20240403T233418Z
LAST-MODIFIED:20240411T181040Z
UID:10000006-1714327200-1714334400@nyapc.org
SUMMARY:Young Adult Gathering
DESCRIPTION:Calling all Young Adults! Join us at the home of Sean McDivitt and Carlos Talamante. We invite you to share a meal and good conversation as we connect and grow together in faith. No need to sign up in advance. Email Rev. Rachel at rachel.pacheco@nyapc.org for the address.
URL:https://nyapc.org/events/young-adult-gathering/
LOCATION:NYAPC\, 1313 New York Ave NW\, Washington\, DC\, 20005\, United States
ATTACH;FMTTYPE=image/webp:https://nyapc.org/wp-content/uploads/2024/04/3-scaled.webp
END:VEVENT
BEGIN:VEVENT
DTSTART;TZID=UTC:20240428T113000
DTEND;TZID=UTC:20240428T123000
DTSTAMP:20260420T022530
CREATED:20240403T233315Z
LAST-MODIFIED:20240411T181048Z
UID:10000005-1714303800-1714307400@nyapc.org
SUMMARY:Worship Listening and Noticing Discussion
DESCRIPTION:What have you been noticing as we worship together? As NYAPC lives into a season of transition\, Interim Musician Paul Vasile invites the community to tune into what we’ve been experiencing over the past weeks. Come share your noticing and hear what others are seeing\, hearing\, and feeling as we gather after Worship on April 28 in the Sanctuary. No registration is required.
URL:https://nyapc.org/events/worship-listening-and-noticing-discussion/
LOCATION:NYAPC\, 1313 New York Ave NW\, Washington\, DC\, 20005\, United States
ATTACH;FMTTYPE=image/webp:https://nyapc.org/wp-content/uploads/2024/04/1-scaled.webp
END:VEVENT
BEGIN:VEVENT
DTSTART;TZID=UTC:20240421T113000
DTEND;TZID=UTC:20240421T123000
DTSTAMP:20260420T022530
CREATED:20240403T232001Z
LAST-MODIFIED:20240411T181009Z
UID:10000004-1713699000-1713702600@nyapc.org
SUMMARY:New Member Class
DESCRIPTION:This is an exciting opportunity to explore joining our church community and discover how you can contribute and connect with others. During this class\, we will have the chance to share our faith stories\, gain insights into what it means to be a part of a Presbyterian church and explore the various ways you can receive support and make a meaningful impact within the NYAPC community. As a bonus\, a delicious lunch will be served!
URL:https://nyapc.org/events/new-member-class/
LOCATION:NYAPC\, 1313 New York Ave NW\, Washington\, DC\, 20005\, United States
ATTACH;FMTTYPE=image/webp:https://nyapc.org/wp-content/uploads/2024/04/5-scaled.webp
END:VEVENT
BEGIN:VEVENT
DTSTART;VALUE=DATE:20240412
DTEND;VALUE=DATE:20240415
DTSTAMP:20260420T022530
CREATED:20240403T231022Z
LAST-MODIFIED:20240404T191000Z
UID:10000003-1712880000-1713139199@nyapc.org
SUMMARY:Church Retreat
DESCRIPTION:Registration is now closed. We are looking forward to being with those of you who registered!
URL:https://nyapc.org/events/church-retreat/
LOCATION:Meadowkirk\, 38012 Delta Farm Ln\, Middleburg\, VA\, 20117
ATTACH;FMTTYPE=image/webp:https://nyapc.org/wp-content/uploads/2024/04/6-scaled.webp
END:VEVENT
BEGIN:VEVENT
DTSTART;TZID=UTC:20240410T190000
DTEND;TZID=UTC:20240410T210000
DTSTAMP:20260420T022530
CREATED:20240403T225313Z
LAST-MODIFIED:20240411T181302Z
UID:10000002-1712775600-1712782800@nyapc.org
SUMMARY:A New Kind of Christianity with Brian McLaren
DESCRIPTION:Brian McLaren\, a passionate advocate for “a new kind of Christianity\,” will discuss his journey in faith and offer thoughts about Christianity today. In this webinar\, he will discuss ideas from his books\, especially from A New Kind of Christianity\, Faith After Doubt\, and Do I Stay Christian? This is the first part of a three-part opportunity for our congregation to discuss his ideas and explore how they intersect with our faith and life at NYAPC. Please join in the conversation! \nZoom Link: https://us02web.zoom.us/j/88029678048 \nRegistration: https://brianmclarenapril10.eventbrite.com/
URL:https://nyapc.org/events/a-new-kind-of-christianity-with-brian-mclaren/
LOCATION:NYAPC\, 1313 New York Ave NW\, Washington\, DC\, 20005\, United States
CATEGORIES:MSIR
ATTACH;FMTTYPE=image/webp:https://nyapc.org/wp-content/uploads/2024/04/2-scaled.webp
END:VEVENT
END:VCALENDAR