BEGIN:VCALENDAR
VERSION:2.0
PRODID:-//New York Avenue Presbyterian Church - ECPv6.15.20//NONSGML v1.0//EN
CALSCALE:GREGORIAN
METHOD:PUBLISH
X-WR-CALNAME:New York Avenue Presbyterian Church
X-ORIGINAL-URL:https://nyapc.org
X-WR-CALDESC:Events for New York Avenue Presbyterian Church
REFRESH-INTERVAL;VALUE=DURATION:PT1H
X-Robots-Tag:noindex
X-PUBLISHED-TTL:PT1H
BEGIN:VTIMEZONE
TZID:America/New_York
BEGIN:DAYLIGHT
TZOFFSETFROM:-0500
TZOFFSETTO:-0400
TZNAME:EDT
DTSTART:20240310T070000
END:DAYLIGHT
BEGIN:STANDARD
TZOFFSETFROM:-0400
TZOFFSETTO:-0500
TZNAME:EST
DTSTART:20241103T060000
END:STANDARD
BEGIN:DAYLIGHT
TZOFFSETFROM:-0500
TZOFFSETTO:-0400
TZNAME:EDT
DTSTART:20250309T070000
END:DAYLIGHT
BEGIN:STANDARD
TZOFFSETFROM:-0400
TZOFFSETTO:-0500
TZNAME:EST
DTSTART:20251102T060000
END:STANDARD
BEGIN:DAYLIGHT
TZOFFSETFROM:-0500
TZOFFSETTO:-0400
TZNAME:EDT
DTSTART:20260308T070000
END:DAYLIGHT
BEGIN:STANDARD
TZOFFSETFROM:-0400
TZOFFSETTO:-0500
TZNAME:EST
DTSTART:20261101T060000
END:STANDARD
END:VTIMEZONE
BEGIN:VEVENT
DTSTART;TZID=America/New_York:20251019T113000
DTEND;TZID=America/New_York:20251019T123000
DTSTAMP:20260419T143736
CREATED:20250814T213537Z
LAST-MODIFIED:20250814T213609Z
UID:7384-1760873400-1760877000@nyapc.org
SUMMARY:New Member Class
DESCRIPTION:If you are ready to take the next step in your journey with NYAPC\, we invite you to our upcoming New Members Class. This gathering is an opportunity to join with other prospective members and current members to share faith stories\, explore the history and mission of our congregation\, and learn more about the Presbyterian Church (U.S.A.) and the Reformed Tradition. \nWhether you are new to the Presbyterian faith or have been part of it for years\, this class will help you connect more deeply with our church family and understand the values and commitments that shape our community. \nThe next New Members Class will take place on Saturday\, October 19 at 11:30 am. We look forward to welcoming you into conversation\, learning\, and fellowship. Register here. \nQuestions? Contact Kirstin.
URL:https://nyapc.org/events/new-member-class-4/
LOCATION:NYAPC\, 1313 New York Ave NW\, Washington\, DC\, 20005\, United States
ATTACH;FMTTYPE=image/webp:https://nyapc.org/wp-content/uploads/2024/04/Sermon-Series-Logo-32.webp
END:VEVENT
END:VCALENDAR