BEGIN:VCALENDAR
VERSION:2.0
PRODID:-//New York Avenue Presbyterian Church - ECPv6.15.20//NONSGML v1.0//EN
CALSCALE:GREGORIAN
METHOD:PUBLISH
X-WR-CALNAME:New York Avenue Presbyterian Church
X-ORIGINAL-URL:https://nyapc.org
X-WR-CALDESC:Events for New York Avenue Presbyterian Church
REFRESH-INTERVAL;VALUE=DURATION:PT1H
X-Robots-Tag:noindex
X-PUBLISHED-TTL:PT1H
BEGIN:VTIMEZONE
TZID:America/New_York
BEGIN:DAYLIGHT
TZOFFSETFROM:-0500
TZOFFSETTO:-0400
TZNAME:EDT
DTSTART:20230312T070000
END:DAYLIGHT
BEGIN:STANDARD
TZOFFSETFROM:-0400
TZOFFSETTO:-0500
TZNAME:EST
DTSTART:20231105T060000
END:STANDARD
BEGIN:DAYLIGHT
TZOFFSETFROM:-0500
TZOFFSETTO:-0400
TZNAME:EDT
DTSTART:20240310T070000
END:DAYLIGHT
BEGIN:STANDARD
TZOFFSETFROM:-0400
TZOFFSETTO:-0500
TZNAME:EST
DTSTART:20241103T060000
END:STANDARD
BEGIN:DAYLIGHT
TZOFFSETFROM:-0500
TZOFFSETTO:-0400
TZNAME:EDT
DTSTART:20250309T070000
END:DAYLIGHT
BEGIN:STANDARD
TZOFFSETFROM:-0400
TZOFFSETTO:-0500
TZNAME:EST
DTSTART:20251102T060000
END:STANDARD
END:VTIMEZONE
BEGIN:VEVENT
DTSTART;TZID=America/New_York:20241020T113000
DTEND;TZID=America/New_York:20241020T123000
DTSTAMP:20260419T212026
CREATED:20240815T175058Z
LAST-MODIFIED:20241009T141203Z
UID:5804-1729423800-1729427400@nyapc.org
SUMMARY:New Members Class
DESCRIPTION:This is an opportunity to join our church community and ask questions. During this class\, we will share faith stories\, learn about the history and mission of this church\, and understand more about the Presbyterian Church (U.S.A.) and Reformed Tradition. As a bonus\, a delicious lunch will be served! \nRegister here! \nQuestions? Reach out to us.
URL:https://nyapc.org/events/new-members-class/
ATTACH;FMTTYPE=image/webp:https://nyapc.org/wp-content/uploads/2024/04/5-scaled.webp
END:VEVENT
END:VCALENDAR