BEGIN:VCALENDAR
VERSION:2.0
PRODID:-//New York Avenue Presbyterian Church - ECPv6.15.20//NONSGML v1.0//EN
CALSCALE:GREGORIAN
METHOD:PUBLISH
X-WR-CALNAME:New York Avenue Presbyterian Church
X-ORIGINAL-URL:https://nyapc.org
X-WR-CALDESC:Events for New York Avenue Presbyterian Church
REFRESH-INTERVAL;VALUE=DURATION:PT1H
X-Robots-Tag:noindex
X-PUBLISHED-TTL:PT1H
BEGIN:VTIMEZONE
TZID:America/New_York
BEGIN:DAYLIGHT
TZOFFSETFROM:-0500
TZOFFSETTO:-0400
TZNAME:EDT
DTSTART:20230312T070000
END:DAYLIGHT
BEGIN:STANDARD
TZOFFSETFROM:-0400
TZOFFSETTO:-0500
TZNAME:EST
DTSTART:20231105T060000
END:STANDARD
BEGIN:DAYLIGHT
TZOFFSETFROM:-0500
TZOFFSETTO:-0400
TZNAME:EDT
DTSTART:20240310T070000
END:DAYLIGHT
BEGIN:STANDARD
TZOFFSETFROM:-0400
TZOFFSETTO:-0500
TZNAME:EST
DTSTART:20241103T060000
END:STANDARD
BEGIN:DAYLIGHT
TZOFFSETFROM:-0500
TZOFFSETTO:-0400
TZNAME:EDT
DTSTART:20250309T070000
END:DAYLIGHT
BEGIN:STANDARD
TZOFFSETFROM:-0400
TZOFFSETTO:-0500
TZNAME:EST
DTSTART:20251102T060000
END:STANDARD
END:VTIMEZONE
BEGIN:VEVENT
DTSTART;TZID=America/New_York:20240915T113000
DTEND;TZID=America/New_York:20240915T123000
DTSTAMP:20260419T230520
CREATED:20240814T151837Z
LAST-MODIFIED:20240827T164641Z
UID:5781-1726399800-1726403400@nyapc.org
SUMMARY:Newcomers' Coffee with the Senior Pastor
DESCRIPTION:Are you interested in learning more about NYAPC? Join us for Coffee with the Pastor\, an informal gathering where you can meet with Pastor Sarah and learn more about the church and the next steps in becoming more engaged. This is an excellent opportunity to ask questions and explore how you can connect with our congregation. We’ll meet in Pastor Sarah’s outer office on the second floor right after worship. No registration is required. \nIf you have any questions\, feel free to email us at adminoffice@nyapc.org.
URL:https://nyapc.org/events/newcomers-coffee-with-the-pastor/
LOCATION:NYAPC\, 1313 New York Ave NW\, Washington\, DC\, 20005\, United States
ATTACH;FMTTYPE=image/webp:https://nyapc.org/wp-content/uploads/2024/08/Sermon-Series-Logo-57.webp
END:VEVENT
END:VCALENDAR