BEGIN:VCALENDAR
VERSION:2.0
PRODID:-//New York Avenue Presbyterian Church - ECPv6.15.20//NONSGML v1.0//EN
CALSCALE:GREGORIAN
METHOD:PUBLISH
X-WR-CALNAME:New York Avenue Presbyterian Church
X-ORIGINAL-URL:https://nyapc.org
X-WR-CALDESC:Events for New York Avenue Presbyterian Church
REFRESH-INTERVAL;VALUE=DURATION:PT1H
X-Robots-Tag:noindex
X-PUBLISHED-TTL:PT1H
BEGIN:VTIMEZONE
TZID:America/New_York
BEGIN:DAYLIGHT
TZOFFSETFROM:-0500
TZOFFSETTO:-0400
TZNAME:EDT
DTSTART:20240310T070000
END:DAYLIGHT
BEGIN:STANDARD
TZOFFSETFROM:-0400
TZOFFSETTO:-0500
TZNAME:EST
DTSTART:20241103T060000
END:STANDARD
BEGIN:DAYLIGHT
TZOFFSETFROM:-0500
TZOFFSETTO:-0400
TZNAME:EDT
DTSTART:20250309T070000
END:DAYLIGHT
BEGIN:STANDARD
TZOFFSETFROM:-0400
TZOFFSETTO:-0500
TZNAME:EST
DTSTART:20251102T060000
END:STANDARD
BEGIN:DAYLIGHT
TZOFFSETFROM:-0500
TZOFFSETTO:-0400
TZNAME:EDT
DTSTART:20260308T070000
END:DAYLIGHT
BEGIN:STANDARD
TZOFFSETFROM:-0400
TZOFFSETTO:-0500
TZNAME:EST
DTSTART:20261101T060000
END:STANDARD
END:VTIMEZONE
BEGIN:VEVENT
DTSTART;TZID=America/New_York:20251005T100000
DTEND;TZID=America/New_York:20251005T110000
DTSTAMP:20260419T143813
CREATED:20250922T153720Z
LAST-MODIFIED:20250922T153720Z
UID:7489-1759658400-1759662000@nyapc.org
SUMMARY:Peace & Global Witness Offering
DESCRIPTION:That wise observer\, Anonymous\, has written\, “To the people who grew up in chaos\, peace is easily mistaken for boredom.” \nFriends\, as you know\, we are currently living amidst chaos\, and in this time each of us can be captured by the temporary attractions of revenge and aimless anger. Just what does peace look like in a time like this?  \nIn John’s gospel\, Jesus proclaims\, “Peace I leave with you\, my peace I give to you; not as the world gives do I give to you.” Clearly the peace that Jesus offers is more than simply the absence of war. It’s rather an active\, generative\, imaginative source of creation’s flourishing. It is the antithesis of boredom! \nWe collect the PC(USA) Peace and Global Witness Offering on World Communion Sunday (October 5). In some ways\, this offering marks a recognition that\, by ourselves\, we can’t co-create with God a vital peace — a peace that builds\, not tears down. We try to do our part in our corner of God’s world\, and we also must partner with and support those doing the hard work of peacemaking elsewhere. In this way\, worldwide communion becomes global witness. \n\nHalf of our offering supports the work of Presbyterians worldwide to foster a living peace\,\nOne quarter goes to presbyteries and synods to unite congregations in peacemaking\, and\nOne quarter remains with NYAPC to support the peacemaking ministries\, global and local\, that have captured our attention and passion.\n\nHere\, our gifts support the Washington Interfaith Network\, Churches for Middle East Peace\, Presbyterian Churches in Iraq\, the Presbyterian Peace Fellowship and other efforts. See what God can do through us! \nSo don’t be misled. Peace\, the peace of Christ\, which we are told passes all understanding\, is not a static\, passive thing. It is alive in the world if we can only glimpse its presence in our midst and claim it in our lives and in our giving. \nDonating to the Peace and Global Witness Offering is one tangible way to be part of the most un-boring adventure in this world. \nYou can give online at nyapc.org/give or place your gift in the Offering Plate\, marked “P&G Offering.” \nThank you for helping bring Christ’s peace into a chaotic world.
URL:https://nyapc.org/events/peace-global-witness-offering/
LOCATION:NYAPC\, 1313 New York Ave NW\, Washington\, DC\, 20005\, United States
ATTACH;FMTTYPE=image/jpeg:https://nyapc.org/wp-content/uploads/2025/09/Sermon-Series-Logo-8.jpg
END:VEVENT
END:VCALENDAR