BEGIN:VCALENDAR
VERSION:2.0
PRODID:-//New York Avenue Presbyterian Church - ECPv6.15.20//NONSGML v1.0//EN
CALSCALE:GREGORIAN
METHOD:PUBLISH
X-WR-CALNAME:New York Avenue Presbyterian Church
X-ORIGINAL-URL:https://nyapc.org
X-WR-CALDESC:Events for New York Avenue Presbyterian Church
REFRESH-INTERVAL;VALUE=DURATION:PT1H
X-Robots-Tag:noindex
X-PUBLISHED-TTL:PT1H
BEGIN:VTIMEZONE
TZID:America/New_York
BEGIN:DAYLIGHT
TZOFFSETFROM:-0500
TZOFFSETTO:-0400
TZNAME:EDT
DTSTART:20240310T070000
END:DAYLIGHT
BEGIN:STANDARD
TZOFFSETFROM:-0400
TZOFFSETTO:-0500
TZNAME:EST
DTSTART:20241103T060000
END:STANDARD
BEGIN:DAYLIGHT
TZOFFSETFROM:-0500
TZOFFSETTO:-0400
TZNAME:EDT
DTSTART:20250309T070000
END:DAYLIGHT
BEGIN:STANDARD
TZOFFSETFROM:-0400
TZOFFSETTO:-0500
TZNAME:EST
DTSTART:20251102T060000
END:STANDARD
BEGIN:DAYLIGHT
TZOFFSETFROM:-0500
TZOFFSETTO:-0400
TZNAME:EDT
DTSTART:20260308T070000
END:DAYLIGHT
BEGIN:STANDARD
TZOFFSETFROM:-0400
TZOFFSETTO:-0500
TZNAME:EST
DTSTART:20261101T060000
END:STANDARD
END:VTIMEZONE
BEGIN:VEVENT
DTSTART;VALUE=DATE:20251123
DTEND;VALUE=DATE:20251208
DTSTAMP:20260419T131546
CREATED:20251119T222439Z
LAST-MODIFIED:20251119T222439Z
UID:7821-1763856000-1765151999@nyapc.org
SUMMARY:Serve on a NYAPC Board
DESCRIPTION:Have you felt called to engage more deeply with NYAPC? Do you have skills and spiritual gifts that could help guide and nurture our mission\, vision\, and ministries in this season ? Or do you know someone who does? The Nominating Committee is seeking members to serve on the Session\, Deacons\, and the Board of Trustees\, or the Nominating Committee. Terms start in June of 2026\, with board positions lasting three years and the Nominating Committee one year. \nTo nominate yourself or someone else\, fill out the form here. \nLearn more. \nQuestions? Email Kirstin.
URL:https://nyapc.org/events/serve-on-a-nyapc-board/
LOCATION:NYAPC\, 1313 New York Ave NW\, Washington\, DC\, 20005\, United States
ATTACH;FMTTYPE=image/webp:https://nyapc.org/wp-content/uploads/2024/10/Sermon-Series-Logo-73.webp
END:VEVENT
END:VCALENDAR