BEGIN:VCALENDAR
VERSION:2.0
PRODID:-//New York Avenue Presbyterian Church - ECPv6.15.20//NONSGML v1.0//EN
CALSCALE:GREGORIAN
METHOD:PUBLISH
X-WR-CALNAME:New York Avenue Presbyterian Church
X-ORIGINAL-URL:https://nyapc.org
X-WR-CALDESC:Events for New York Avenue Presbyterian Church
REFRESH-INTERVAL;VALUE=DURATION:PT1H
X-Robots-Tag:noindex
X-PUBLISHED-TTL:PT1H
BEGIN:VTIMEZONE
TZID:America/New_York
BEGIN:DAYLIGHT
TZOFFSETFROM:-0500
TZOFFSETTO:-0400
TZNAME:EDT
DTSTART:20230312T070000
END:DAYLIGHT
BEGIN:STANDARD
TZOFFSETFROM:-0400
TZOFFSETTO:-0500
TZNAME:EST
DTSTART:20231105T060000
END:STANDARD
BEGIN:DAYLIGHT
TZOFFSETFROM:-0500
TZOFFSETTO:-0400
TZNAME:EDT
DTSTART:20240310T070000
END:DAYLIGHT
BEGIN:STANDARD
TZOFFSETFROM:-0400
TZOFFSETTO:-0500
TZNAME:EST
DTSTART:20241103T060000
END:STANDARD
BEGIN:DAYLIGHT
TZOFFSETFROM:-0500
TZOFFSETTO:-0400
TZNAME:EDT
DTSTART:20250309T070000
END:DAYLIGHT
BEGIN:STANDARD
TZOFFSETFROM:-0400
TZOFFSETTO:-0500
TZNAME:EST
DTSTART:20251102T060000
END:STANDARD
END:VTIMEZONE
BEGIN:VEVENT
DTSTART;TZID=America/New_York:20241214T100000
DTEND;TZID=America/New_York:20241214T120000
DTSTAMP:20260419T193232
CREATED:20241118T203428Z
LAST-MODIFIED:20241118T203428Z
UID:6465-1734170400-1734177600@nyapc.org
SUMMARY:Train Day
DESCRIPTION:All aboard for Train Day—a morning of fun for train enthusiasts of all ages! Starting at 10 am in Peter Marshall Hall\, you’ll get to explore an incredible train track setup that’s sure to delight kids\, youth\, and adults alike. Have a favorite toy train? Bring it along to add to the fun! Don’t have one? No problem—there’s plenty to enjoy for everyone. \nAfterward\, stop by the Radcliffe Room to help assemble Christmas bags for our unhoused neighbors—a meaningful way to share holiday cheer. \nThis festive event is open to all—families\, visitors\, and anyone looking for a fun and heartwarming way to celebrate the season!
URL:https://nyapc.org/events/train-day/
LOCATION:NYAPC\, 1313 New York Ave NW\, Washington\, DC\, 20005\, United States
ATTACH;FMTTYPE=image/webp:https://nyapc.org/wp-content/uploads/2024/11/Sermon-Series-Logo-15.webp
END:VEVENT
END:VCALENDAR