BEGIN:VCALENDAR
VERSION:2.0
PRODID:-//New York Avenue Presbyterian Church - ECPv6.15.20//NONSGML v1.0//EN
CALSCALE:GREGORIAN
METHOD:PUBLISH
X-WR-CALNAME:New York Avenue Presbyterian Church
X-ORIGINAL-URL:https://nyapc.org
X-WR-CALDESC:Events for New York Avenue Presbyterian Church
REFRESH-INTERVAL;VALUE=DURATION:PT1H
X-Robots-Tag:noindex
X-PUBLISHED-TTL:PT1H
BEGIN:VTIMEZONE
TZID:America/New_York
BEGIN:DAYLIGHT
TZOFFSETFROM:-0500
TZOFFSETTO:-0400
TZNAME:EDT
DTSTART:20230312T070000
END:DAYLIGHT
BEGIN:STANDARD
TZOFFSETFROM:-0400
TZOFFSETTO:-0500
TZNAME:EST
DTSTART:20231105T060000
END:STANDARD
BEGIN:DAYLIGHT
TZOFFSETFROM:-0500
TZOFFSETTO:-0400
TZNAME:EDT
DTSTART:20240310T070000
END:DAYLIGHT
BEGIN:STANDARD
TZOFFSETFROM:-0400
TZOFFSETTO:-0500
TZNAME:EST
DTSTART:20241103T060000
END:STANDARD
BEGIN:DAYLIGHT
TZOFFSETFROM:-0500
TZOFFSETTO:-0400
TZNAME:EDT
DTSTART:20250309T070000
END:DAYLIGHT
BEGIN:STANDARD
TZOFFSETFROM:-0400
TZOFFSETTO:-0500
TZNAME:EST
DTSTART:20251102T060000
END:STANDARD
END:VTIMEZONE
BEGIN:VEVENT
DTSTART;TZID=America/New_York:20240908T100000
DTEND;TZID=America/New_York:20240908T113000
DTSTAMP:20260420T020049
CREATED:20240814T152856Z
LAST-MODIFIED:20240830T155451Z
UID:5784-1725789600-1725795000@nyapc.org
SUMMARY:Welcome Home Sunday
DESCRIPTION:Join us on Sunday\, September 8th\, for Welcome Home Sunday\, a joyful celebration to kick off a new season at NYAPC! Sunday School classes are starting\, and during worship\, we’ll be gifting Bibles to our 3rd graders and commissioning the Director of Music and Organist Search Team. After worship\, we’ll have a special Coffee Hour with lemonade\, treats\, and sandwiches. If you’d like to contribute or volunteer for Coffee Hour\, please sign up here!  \nWhether you’re returning or new to our community\, we welcome you to reconnect\, worship\, and explore opportunities for growth and involvement. Let’s kick off the new season together!
URL:https://nyapc.org/events/welcome-home-sunday/
LOCATION:NYAPC\, 1313 New York Ave NW\, Washington\, DC\, 20005\, United States
ATTACH;FMTTYPE=image/webp:https://nyapc.org/wp-content/uploads/2024/08/Sermon-Series-Logo-59.webp
END:VEVENT
END:VCALENDAR