BEGIN:VCALENDAR
VERSION:2.0
PRODID:-//New York Avenue Presbyterian Church - ECPv6.15.20//NONSGML v1.0//EN
CALSCALE:GREGORIAN
METHOD:PUBLISH
X-WR-CALNAME:New York Avenue Presbyterian Church
X-ORIGINAL-URL:https://nyapc.org
X-WR-CALDESC:Events for New York Avenue Presbyterian Church
REFRESH-INTERVAL;VALUE=DURATION:PT1H
X-Robots-Tag:noindex
X-PUBLISHED-TTL:PT1H
BEGIN:VTIMEZONE
TZID:America/New_York
BEGIN:DAYLIGHT
TZOFFSETFROM:-0500
TZOFFSETTO:-0400
TZNAME:EDT
DTSTART:20240310T070000
END:DAYLIGHT
BEGIN:STANDARD
TZOFFSETFROM:-0400
TZOFFSETTO:-0500
TZNAME:EST
DTSTART:20241103T060000
END:STANDARD
BEGIN:DAYLIGHT
TZOFFSETFROM:-0500
TZOFFSETTO:-0400
TZNAME:EDT
DTSTART:20250309T070000
END:DAYLIGHT
BEGIN:STANDARD
TZOFFSETFROM:-0400
TZOFFSETTO:-0500
TZNAME:EST
DTSTART:20251102T060000
END:STANDARD
BEGIN:DAYLIGHT
TZOFFSETFROM:-0500
TZOFFSETTO:-0400
TZNAME:EDT
DTSTART:20260308T070000
END:DAYLIGHT
BEGIN:STANDARD
TZOFFSETFROM:-0400
TZOFFSETTO:-0500
TZNAME:EST
DTSTART:20261101T060000
END:STANDARD
END:VTIMEZONE
BEGIN:VEVENT
DTSTART;TZID=America/New_York:20251211T190000
DTEND;TZID=America/New_York:20251211T203000
DTSTAMP:20260419T132328
CREATED:20251119T214250Z
LAST-MODIFIED:20251119T214250Z
UID:7797-1765479600-1765485000@nyapc.org
SUMMARY:With Malice Towards None: Human Dignity in a Time of Political Violence
DESCRIPTION:Register for this free event\, available both as a webinar and in person\, featuring two prominent Americans with differing political and religious beliefs who will come together for a discussion on what needs to be done to mitigate the danger of political violence in America. \nTim Shriver\, a Democrat who is President of the Special Olympics and founder of UNITE\, and Tom Griffith\, a Republican who is a retired federal judge and was previously General Counsel of Brigham Young University\, will engage in a dialogue about the spiritual and moral values we need to combat toxic political polarization. \nThe discussion will be moderated by Dr. David McAlister-Wilson\, President of Wesley Theological Seminary. \nRegister here.
URL:https://nyapc.org/events/with-malice-towards-none-human-dignity-in-a-time-of-political-violence/
LOCATION:NYAPC\, 1313 New York Ave NW\, Washington\, DC\, 20005\, United States
ATTACH;FMTTYPE=image/jpeg:https://nyapc.org/wp-content/uploads/2025/11/18-1.jpg
END:VEVENT
END:VCALENDAR