BEGIN:VCALENDAR
VERSION:2.0
PRODID:-//New York Avenue Presbyterian Church - ECPv6.15.20//NONSGML v1.0//EN
CALSCALE:GREGORIAN
METHOD:PUBLISH
X-WR-CALNAME:New York Avenue Presbyterian Church
X-ORIGINAL-URL:https://nyapc.org
X-WR-CALDESC:Events for New York Avenue Presbyterian Church
REFRESH-INTERVAL;VALUE=DURATION:PT1H
X-Robots-Tag:noindex
X-PUBLISHED-TTL:PT1H
BEGIN:VTIMEZONE
TZID:UTC
BEGIN:STANDARD
TZOFFSETFROM:+0000
TZOFFSETTO:+0000
TZNAME:UTC
DTSTART:20230101T000000
END:STANDARD
END:VTIMEZONE
BEGIN:VEVENT
DTSTART;TZID=UTC:20240519T180000
DTEND;TZID=UTC:20240519T200000
DTSTAMP:20260420T023200
CREATED:20240403T233838Z
LAST-MODIFIED:20240411T181000Z
UID:4751-1716141600-1716148800@nyapc.org
SUMMARY:Young Adult Gathering
DESCRIPTION:Calling all Young Adults! Join us at the home of Morgan Brown. We invite you to share a meal and good conversation as we connect and grow together in faith. No need to sign up in advance. Email Rev. Rachel at rachel.pacheco@nyapc.org for the address.
URL:https://nyapc.org/events/young-adult-gathering-2/
LOCATION:NYAPC\, 1313 New York Ave NW\, Washington\, DC\, 20005\, United States
ATTACH;FMTTYPE=image/webp:https://nyapc.org/wp-content/uploads/2024/04/4-scaled.webp
END:VEVENT
END:VCALENDAR