BEGIN:VCALENDAR
VERSION:2.0
PRODID:-//New York Avenue Presbyterian Church - ECPv6.15.20//NONSGML v1.0//EN
CALSCALE:GREGORIAN
METHOD:PUBLISH
X-WR-CALNAME:New York Avenue Presbyterian Church
X-ORIGINAL-URL:https://nyapc.org
X-WR-CALDESC:Events for New York Avenue Presbyterian Church
REFRESH-INTERVAL;VALUE=DURATION:PT1H
X-Robots-Tag:noindex
X-PUBLISHED-TTL:PT1H
BEGIN:VTIMEZONE
TZID:America/New_York
BEGIN:DAYLIGHT
TZOFFSETFROM:-0500
TZOFFSETTO:-0400
TZNAME:EDT
DTSTART:20240310T070000
END:DAYLIGHT
BEGIN:STANDARD
TZOFFSETFROM:-0400
TZOFFSETTO:-0500
TZNAME:EST
DTSTART:20241103T060000
END:STANDARD
BEGIN:DAYLIGHT
TZOFFSETFROM:-0500
TZOFFSETTO:-0400
TZNAME:EDT
DTSTART:20250309T070000
END:DAYLIGHT
BEGIN:STANDARD
TZOFFSETFROM:-0400
TZOFFSETTO:-0500
TZNAME:EST
DTSTART:20251102T060000
END:STANDARD
BEGIN:DAYLIGHT
TZOFFSETFROM:-0500
TZOFFSETTO:-0400
TZNAME:EDT
DTSTART:20260308T070000
END:DAYLIGHT
BEGIN:STANDARD
TZOFFSETFROM:-0400
TZOFFSETTO:-0500
TZNAME:EST
DTSTART:20261101T060000
END:STANDARD
END:VTIMEZONE
BEGIN:VEVENT
DTSTART;TZID=America/New_York:20250216T113000
DTEND;TZID=America/New_York:20250216T123000
DTSTAMP:20260419T180804
CREATED:20250207T164217Z
LAST-MODIFIED:20250207T164315Z
UID:6733-1739705400-1739709000@nyapc.org
SUMMARY:Young Adult Gathering
DESCRIPTION:Calling all Young Adults! After 10 am worship\, we invite all young adults for some good conversation as we connect and grow together in faith. All are welcome. No registration is required. Bring your coffee and treats and join us in the Lincoln Parlor on the first floor at 11:30 am. \nSign up for our Young Adult email list to stay up to date on all upcoming Young Adult events!
URL:https://nyapc.org/events/young-adult-gathering-8/
LOCATION:NYAPC\, 1313 New York Ave NW\, Washington\, DC\, 20005\, United States
ATTACH;FMTTYPE=image/jpeg:https://nyapc.org/wp-content/uploads/2024/12/Sermon-Series-Logo-23.jpg
END:VEVENT
END:VCALENDAR