BEGIN:VCALENDAR
VERSION:2.0
PRODID:-//New York Avenue Presbyterian Church - ECPv6.15.20//NONSGML v1.0//EN
CALSCALE:GREGORIAN
METHOD:PUBLISH
X-WR-CALNAME:New York Avenue Presbyterian Church
X-ORIGINAL-URL:https://nyapc.org
X-WR-CALDESC:Events for New York Avenue Presbyterian Church
REFRESH-INTERVAL;VALUE=DURATION:PT1H
X-Robots-Tag:noindex
X-PUBLISHED-TTL:PT1H
BEGIN:VTIMEZONE
TZID:UTC
BEGIN:STANDARD
TZOFFSETFROM:+0000
TZOFFSETTO:+0000
TZNAME:UTC
DTSTART:20230101T000000
END:STANDARD
END:VTIMEZONE
BEGIN:VEVENT
DTSTART;TZID=UTC:20240922T180000
DTEND;TZID=UTC:20240922T200000
DTSTAMP:20260420T023340
CREATED:20240910T133541Z
LAST-MODIFIED:20240910T133541Z
UID:10000053-1727028000-1727035200@nyapc.org
SUMMARY:Young Adult Happy Hour
DESCRIPTION:Come connect with other young adults at Capital Brewing Company for drinks and games! No need to sign up in advance. Questions? Email Pastor Rachel. \nYou can also sign up for our Young Adult email list to stay informed about upcoming Young Adult events!
URL:https://nyapc.org/events/young-adult-happy-hour/
LOCATION:Capital Brewing Company\, 1100 New York Ave NW #710W\, Washington\, 20005\, United States
ATTACH;FMTTYPE=image/webp:https://nyapc.org/wp-content/uploads/2024/04/4-scaled.webp
END:VEVENT
END:VCALENDAR