BEGIN:VCALENDAR
VERSION:2.0
PRODID:-//New York Avenue Presbyterian Church - ECPv6.15.20//NONSGML v1.0//EN
CALSCALE:GREGORIAN
METHOD:PUBLISH
X-WR-CALNAME:New York Avenue Presbyterian Church
X-ORIGINAL-URL:https://nyapc.org
X-WR-CALDESC:Events for New York Avenue Presbyterian Church
REFRESH-INTERVAL;VALUE=DURATION:PT1H
X-Robots-Tag:noindex
X-PUBLISHED-TTL:PT1H
BEGIN:VTIMEZONE
TZID:America/New_York
BEGIN:DAYLIGHT
TZOFFSETFROM:-0500
TZOFFSETTO:-0400
TZNAME:EDT
DTSTART:20240310T070000
END:DAYLIGHT
BEGIN:STANDARD
TZOFFSETFROM:-0400
TZOFFSETTO:-0500
TZNAME:EST
DTSTART:20241103T060000
END:STANDARD
BEGIN:DAYLIGHT
TZOFFSETFROM:-0500
TZOFFSETTO:-0400
TZNAME:EDT
DTSTART:20250309T070000
END:DAYLIGHT
BEGIN:STANDARD
TZOFFSETFROM:-0400
TZOFFSETTO:-0500
TZNAME:EST
DTSTART:20251102T060000
END:STANDARD
BEGIN:DAYLIGHT
TZOFFSETFROM:-0500
TZOFFSETTO:-0400
TZNAME:EDT
DTSTART:20260308T070000
END:DAYLIGHT
BEGIN:STANDARD
TZOFFSETFROM:-0400
TZOFFSETTO:-0500
TZNAME:EST
DTSTART:20261101T060000
END:STANDARD
END:VTIMEZONE
BEGIN:VEVENT
DTSTART;TZID=America/New_York:20250218T180000
DTEND;TZID=America/New_York:20250218T193000
DTSTAMP:20260419T213310
CREATED:20250114T175821Z
LAST-MODIFIED:20250123T202931Z
UID:10000100-1739901600-1739907000@nyapc.org
SUMMARY:An Evening with Professor Tiya Miles
DESCRIPTION:The NYAPC McClendon Scholar Program will host Dr. Tiya Miles\, a Professor of History at Harvard University and an award-winning author of eight books. She will discuss her new book Night Flyer which focuses on the eco-spiritual worldview of Harriet Tubman and other similar women of her time. Her emphasis will be on how these spiritual insights can help us navigate a just and sustainable path during difficult days. \nSign up here \nLocation: Metropolitan AME Church \n\n\n\n1518 M St NW Washington\, DC 20005
URL:https://nyapc.org/events/an-evening-with-professor-tiya-miles/
LOCATION:Metropolitan AME Church\, 1518 M St NW\, Washington\, DC\, 20005\, United States
ATTACH;FMTTYPE=image/webp:https://nyapc.org/wp-content/uploads/2025/01/Sermon-Series-Logo-26-1.webp
END:VEVENT
END:VCALENDAR