BEGIN:VCALENDAR
VERSION:2.0
PRODID:-//New York Avenue Presbyterian Church - ECPv6.15.20//NONSGML v1.0//EN
CALSCALE:GREGORIAN
METHOD:PUBLISH
X-WR-CALNAME:New York Avenue Presbyterian Church
X-ORIGINAL-URL:https://nyapc.org
X-WR-CALDESC:Events for New York Avenue Presbyterian Church
REFRESH-INTERVAL;VALUE=DURATION:PT1H
X-Robots-Tag:noindex
X-PUBLISHED-TTL:PT1H
BEGIN:VTIMEZONE
TZID:America/New_York
BEGIN:DAYLIGHT
TZOFFSETFROM:-0500
TZOFFSETTO:-0400
TZNAME:EDT
DTSTART:20250309T070000
END:DAYLIGHT
BEGIN:STANDARD
TZOFFSETFROM:-0400
TZOFFSETTO:-0500
TZNAME:EST
DTSTART:20251102T060000
END:STANDARD
BEGIN:DAYLIGHT
TZOFFSETFROM:-0500
TZOFFSETTO:-0400
TZNAME:EDT
DTSTART:20260308T070000
END:DAYLIGHT
BEGIN:STANDARD
TZOFFSETFROM:-0400
TZOFFSETTO:-0500
TZNAME:EST
DTSTART:20261101T060000
END:STANDARD
BEGIN:DAYLIGHT
TZOFFSETFROM:-0500
TZOFFSETTO:-0400
TZNAME:EDT
DTSTART:20270314T070000
END:DAYLIGHT
BEGIN:STANDARD
TZOFFSETFROM:-0400
TZOFFSETTO:-0500
TZNAME:EST
DTSTART:20271107T060000
END:STANDARD
END:VTIMEZONE
BEGIN:VEVENT
DTSTART;TZID=America/New_York:20260405T063000
DTEND;TZID=America/New_York:20260405T073000
DTSTAMP:20260419T113615
CREATED:20260311T151004Z
LAST-MODIFIED:20260311T151004Z
UID:10000326-1775370600-1775374200@nyapc.org
SUMMARY:Easter Sunrise Worship
DESCRIPTION:Join NYAPC and neighboring congregations for this multi-church sunrise service\, hosted by Capitol Hill Presbyterian Church\, as we sing\, pray\, and bear joyful witness together to the resurrection. Here\, in the open air\, with the dome of the Capitol behind us\, we proclaim that the One who conquered death is Lord over every power and principality\, and that new life has broken into the world. \nWorship begins at 6:30 am at the West Side of the Capitol Reflecting Pool. \nAll are welcome. Come as you are\, in the chill and the dawn.
URL:https://nyapc.org/events/easter-sunrise-worship/
LOCATION:West Side of the Capitol Reflecting Pool\, Capitol Reflecting Pool\, Washington\, DC\, 20005
ATTACH;FMTTYPE=image/webp:https://nyapc.org/wp-content/uploads/2024/11/Sermon-Series-Logo-1.webp
END:VEVENT
END:VCALENDAR